BEGIN:VCALENDAR
VERSION:2.0
PRODID:-//Bygdelagssamskipnaden - ECPv6.15.20//NONSGML v1.0//EN
CALSCALE:GREGORIAN
METHOD:PUBLISH
X-WR-CALNAME:Bygdelagssamskipnaden
X-ORIGINAL-URL:https://www.bls.no
X-WR-CALDESC:Hendingar for Bygdelagssamskipnaden
REFRESH-INTERVAL;VALUE=DURATION:PT1H
X-Robots-Tag:noindex
X-PUBLISHED-TTL:PT1H
BEGIN:VTIMEZONE
TZID:Europe/Oslo
BEGIN:DAYLIGHT
TZOFFSETFROM:+0100
TZOFFSETTO:+0200
TZNAME:CEST
DTSTART:20190331T010000
END:DAYLIGHT
BEGIN:STANDARD
TZOFFSETFROM:+0200
TZOFFSETTO:+0100
TZNAME:CET
DTSTART:20191027T010000
END:STANDARD
BEGIN:DAYLIGHT
TZOFFSETFROM:+0100
TZOFFSETTO:+0200
TZNAME:CEST
DTSTART:20200329T010000
END:DAYLIGHT
BEGIN:STANDARD
TZOFFSETFROM:+0200
TZOFFSETTO:+0100
TZNAME:CET
DTSTART:20201025T010000
END:STANDARD
BEGIN:DAYLIGHT
TZOFFSETFROM:+0100
TZOFFSETTO:+0200
TZNAME:CEST
DTSTART:20210328T010000
END:DAYLIGHT
BEGIN:STANDARD
TZOFFSETFROM:+0200
TZOFFSETTO:+0100
TZNAME:CET
DTSTART:20211031T010000
END:STANDARD
BEGIN:DAYLIGHT
TZOFFSETFROM:+0100
TZOFFSETTO:+0200
TZNAME:CEST
DTSTART:20220327T010000
END:DAYLIGHT
BEGIN:STANDARD
TZOFFSETFROM:+0200
TZOFFSETTO:+0100
TZNAME:CET
DTSTART:20221030T010000
END:STANDARD
END:VTIMEZONE
BEGIN:VEVENT
DTSTART;TZID=Europe/Oslo:20211117T180000
DTEND;TZID=Europe/Oslo:20211117T193000
DTSTAMP:20260423T165058
CREATED:20211103T115254Z
LAST-MODIFIED:20211103T133723Z
UID:10002295-1637172000-1637177400@www.bls.no
SUMMARY:Polskurs i Symra
DESCRIPTION:Grunnkurs i Rørospols byrjar onsdag 10. november kl 18.00 – 19.25 i Storsalen Nordahl Brunsgt. 22.\n4 onsdags-kveldar på rad.\nPris kr 300 (kr 150 for studentar) for heile kurset.\nGod instruksjon og levande musikk.\nInfo: aase.bjorli@gmail.com Tlf: 90200602
URL:https://www.bls.no/hending/polskurs-i-symra/2021-11-17/
LOCATION:Storsalen\, Nordahl Bruns gt 22\, Oslo\, 0165\, Norway
CATEGORIES:Bls Dans,Bls Framheva,Bls Kurs,Folkedanslaget Symra,Symra Kurs
ATTACH;FMTTYPE=image/jpeg:https://www.bls.no/wp-content/uploads/2021/11/Polskurs-Symra-nov-2017.jpg
GEO:59.9185734;10.7382801
X-APPLE-STRUCTURED-LOCATION;VALUE=URI;X-ADDRESS=Storsalen Nordahl Bruns gt 22 Oslo 0165 Norway;X-APPLE-RADIUS=500;X-TITLE=Nordahl Bruns gt 22:geo:10.7382801,59.9185734
END:VEVENT
BEGIN:VEVENT
DTSTART;TZID=Europe/Oslo:20211110T180000
DTEND;TZID=Europe/Oslo:20211110T193000
DTSTAMP:20260423T165058
CREATED:20211103T115254Z
LAST-MODIFIED:20211103T133723Z
UID:10002294-1636567200-1636572600@www.bls.no
SUMMARY:Polskurs i Symra
DESCRIPTION:Grunnkurs i Rørospols byrjar onsdag 10. november kl 18.00 – 19.25 i Storsalen Nordahl Brunsgt. 22.\n4 onsdags-kveldar på rad.\nPris kr 300 (kr 150 for studentar) for heile kurset.\nGod instruksjon og levande musikk.\nInfo: aase.bjorli@gmail.com Tlf: 90200602
URL:https://www.bls.no/hending/polskurs-i-symra/2021-11-10/
LOCATION:Storsalen\, Nordahl Bruns gt 22\, Oslo\, 0165\, Norway
CATEGORIES:Bls Dans,Bls Framheva,Bls Kurs,Folkedanslaget Symra,Symra Kurs
ATTACH;FMTTYPE=image/jpeg:https://www.bls.no/wp-content/uploads/2021/11/Polskurs-Symra-nov-2017.jpg
GEO:59.9185734;10.7382801
X-APPLE-STRUCTURED-LOCATION;VALUE=URI;X-ADDRESS=Storsalen Nordahl Bruns gt 22 Oslo 0165 Norway;X-APPLE-RADIUS=500;X-TITLE=Nordahl Bruns gt 22:geo:10.7382801,59.9185734
END:VEVENT
BEGIN:VEVENT
DTSTART;TZID=Europe/Oslo:20210901T193000
DTEND;TZID=Europe/Oslo:20210901T220000
DTSTAMP:20260423T165058
CREATED:20210404T120550Z
LAST-MODIFIED:20210611T090548Z
UID:10002016-1630524600-1630533600@www.bls.no
SUMMARY:Øvingskveld Symra
DESCRIPTION:I Symra danses gammeldans\, turdans\, bygdedans\, stildans og sangdans. Kl 20.45 – 21.15 er det kaffepause. Før kaffepausen er det mye musikkdans\, og opp til fem musikere spiller. Dyktige instruktører leder dansen.
URL:https://www.bls.no/hending/ovingskveld-symra/
LOCATION:Storsalen\, Nordahl Bruns gt 22\, Oslo\, 0165\, Norway
CATEGORIES:Bls Framheva,Symra
ATTACH;FMTTYPE=image/jpeg:https://www.bls.no/wp-content/uploads/2021/03/Bunadbilde-Symra-fra-MR.jpg
GEO:59.9185734;10.7382801
X-APPLE-STRUCTURED-LOCATION;VALUE=URI;X-ADDRESS=Storsalen Nordahl Bruns gt 22 Oslo 0165 Norway;X-APPLE-RADIUS=500;X-TITLE=Nordahl Bruns gt 22:geo:10.7382801,59.9185734
END:VEVENT
BEGIN:VEVENT
DTSTART;TZID=Europe/Oslo:20210616T180000
DTEND;TZID=Europe/Oslo:20210616T203000
DTSTAMP:20260423T165058
CREATED:20210519T095555Z
LAST-MODIFIED:20210519T095555Z
UID:10002096-1623866400-1623875400@www.bls.no
SUMMARY:Leiarmøte BLS
DESCRIPTION:Fysisk møte. Dersom det er umogleg\, vert det digitalt. Tidspunkt kjem med innkallinga.\nLeiarmøte er samansett med ein eller fleire frå medlemslaga + styret i samskipnaden.
URL:https://www.bls.no/hending/leiarmote-bls/
LOCATION:Storsalen\, Nordahl Bruns gt 22\, Oslo\, 0165\, Norway
CATEGORIES:Bls Framheva
ATTACH;FMTTYPE=image/jpeg:https://www.bls.no/wp-content/uploads/2021/03/BLS-logo-jpg.jpg
ORGANIZER;CN="BLS":MAILTO:post@bls.no
GEO:59.9185734;10.7382801
X-APPLE-STRUCTURED-LOCATION;VALUE=URI;X-ADDRESS=Storsalen Nordahl Bruns gt 22 Oslo 0165 Norway;X-APPLE-RADIUS=500;X-TITLE=Nordahl Bruns gt 22:geo:10.7382801,59.9185734
END:VEVENT
BEGIN:VEVENT
DTSTART;TZID=Europe/Oslo:20210602T170000
DTEND;TZID=Europe/Oslo:20210602T220000
DTSTAMP:20260423T165058
CREATED:20210219T174652Z
LAST-MODIFIED:20210525T061754Z
UID:10002026-1622653200-1622671200@www.bls.no
SUMMARY:Toraderkurs/ øving Symradern
DESCRIPTION:Øving Symradern og Trinn 1.\nHusk påmelding til seminaret i durspill på Klækken til Wencke.
URL:https://www.bls.no/hending/toraderkurs-oving-symradern-6/
LOCATION:Storsalen\, Nordahl Bruns gt 22\, Oslo\, 0165\, Norway
CATEGORIES:Bls Framheva,BLS Musikk,Symra Kurs,Symradern
ATTACH;FMTTYPE=image/jpeg:https://www.bls.no/wp-content/uploads/2020/10/Symradern-dY0RUS.tmp_.jpg
GEO:59.9185734;10.7382801
X-APPLE-STRUCTURED-LOCATION;VALUE=URI;X-ADDRESS=Storsalen Nordahl Bruns gt 22 Oslo 0165 Norway;X-APPLE-RADIUS=500;X-TITLE=Nordahl Bruns gt 22:geo:10.7382801,59.9185734
END:VEVENT
BEGIN:VEVENT
DTSTART;TZID=Europe/Oslo:20210519T193000
DTEND;TZID=Europe/Oslo:20210519T220000
DTSTAMP:20260423T165058
CREATED:20210219T174653Z
LAST-MODIFIED:20210519T094818Z
UID:10002025-1621452600-1621461600@www.bls.no
SUMMARY:Tur rundt Østensjøvannet.
DESCRIPTION:Øving Symra er avlyst.\nI stedet går vi rundt Østensjøvannet. Frammøte kl 18.00 ved parkeringsplassen i sørenden. Påmelding til Erik 915 23 192. Hvis mange\, vil vi gruppere oss med inntil 10 i hver gruppe.\nVi regner med at bladet er trykket og kan utdeles til de som møter fram. NB. Det er en del nytt stoff i forhold til det som ble sendt på mail.
URL:https://www.bls.no/hending/oving-symra-28/
LOCATION:Storsalen\, Nordahl Bruns gt 22\, Oslo\, 0165\, Norway
CATEGORIES:Bls Dans,Bls Framheva,Folkedanslaget Symra,Symra
ATTACH;FMTTYPE=image/jpeg:https://www.bls.no/wp-content/uploads/2021/04/IMG_1052-scaled.jpg
GEO:59.9185734;10.7382801
X-APPLE-STRUCTURED-LOCATION;VALUE=URI;X-ADDRESS=Storsalen Nordahl Bruns gt 22 Oslo 0165 Norway;X-APPLE-RADIUS=500;X-TITLE=Nordahl Bruns gt 22:geo:10.7382801,59.9185734
END:VEVENT
BEGIN:VEVENT
DTSTART;TZID=Europe/Oslo:20210512T193000
DTEND;TZID=Europe/Oslo:20210512T220000
DTSTAMP:20260423T165058
CREATED:20210213T162420Z
LAST-MODIFIED:20210507T074234Z
UID:10002027-1620847800-1620856800@www.bls.no
SUMMARY:Øving Symra avlyst.
DESCRIPTION:Øvinga er avlyst.
URL:https://www.bls.no/hending/oving-symra-27/
LOCATION:Storsalen\, Nordahl Bruns gt 22\, Oslo\, 0165\, Norway
CATEGORIES:Bls Dans,Bls Framheva,Folkedanslaget Symra,Symra
GEO:59.9185734;10.7382801
X-APPLE-STRUCTURED-LOCATION;VALUE=URI;X-ADDRESS=Storsalen Nordahl Bruns gt 22 Oslo 0165 Norway;X-APPLE-RADIUS=500;X-TITLE=Nordahl Bruns gt 22:geo:10.7382801,59.9185734
END:VEVENT
BEGIN:VEVENT
DTSTART;TZID=Europe/Oslo:20210505T193000
DTEND;TZID=Europe/Oslo:20210505T220000
DTSTAMP:20260423T165058
CREATED:20210204T145035Z
LAST-MODIFIED:20210503T190225Z
UID:10002036-1620243000-1620252000@www.bls.no
SUMMARY:Øving Symra avlyst.
DESCRIPTION:Øvinga er avlyst!
URL:https://www.bls.no/hending/oving-symra-26/
LOCATION:Storsalen\, Nordahl Bruns gt 22\, Oslo\, 0165\, Norway
CATEGORIES:Bls Dans,Bls Framheva,Folkedanslaget Symra,Symra
GEO:59.9185734;10.7382801
X-APPLE-STRUCTURED-LOCATION;VALUE=URI;X-ADDRESS=Storsalen Nordahl Bruns gt 22 Oslo 0165 Norway;X-APPLE-RADIUS=500;X-TITLE=Nordahl Bruns gt 22:geo:10.7382801,59.9185734
END:VEVENT
BEGIN:VEVENT
DTSTART;TZID=Europe/Oslo:20210414T193000
DTEND;TZID=Europe/Oslo:20210414T220000
DTSTAMP:20260423T165058
CREATED:20210114T084900Z
LAST-MODIFIED:20210403T194744Z
UID:10002030-1618428600-1618437600@www.bls.no
SUMMARY:Øving Symra Avlyst
DESCRIPTION:Dessverre avlyst.
URL:https://www.bls.no/hending/oving-symra-23/
LOCATION:Storsalen\, Nordahl Bruns gt 22\, Oslo\, 0165\, Norway
CATEGORIES:Bls Dans,Bls Framheva,Folkedanslaget Symra,Symra
GEO:59.9185734;10.7382801
X-APPLE-STRUCTURED-LOCATION;VALUE=URI;X-ADDRESS=Storsalen Nordahl Bruns gt 22 Oslo 0165 Norway;X-APPLE-RADIUS=500;X-TITLE=Nordahl Bruns gt 22:geo:10.7382801,59.9185734
END:VEVENT
BEGIN:VEVENT
DTSTART;TZID=Europe/Oslo:20210317T193000
DTEND;TZID=Europe/Oslo:20210317T220000
DTSTAMP:20260423T165058
CREATED:20201217T025347Z
LAST-MODIFIED:20210313T141340Z
UID:10001934-1616009400-1616018400@www.bls.no
SUMMARY:Øving Symra Avlyst
DESCRIPTION:Vi vonar at vi kan halde øvingar! \nMeir info kjem.
URL:https://www.bls.no/hending/oving-symra-21/
LOCATION:Storsalen\, Nordahl Bruns gt 22\, Oslo\, 0165\, Norway
CATEGORIES:Bls Dans,Bls Framheva,Folkedanslaget Symra,Symra
ATTACH;FMTTYPE=image/jpeg:https://www.bls.no/wp-content/uploads/2020/11/bunadbilde-symra-fra-mr-TwsgmB.tmp_.jpg
GEO:59.9185734;10.7382801
X-APPLE-STRUCTURED-LOCATION;VALUE=URI;X-ADDRESS=Storsalen Nordahl Bruns gt 22 Oslo 0165 Norway;X-APPLE-RADIUS=500;X-TITLE=Nordahl Bruns gt 22:geo:10.7382801,59.9185734
END:VEVENT
BEGIN:VEVENT
DTSTART;TZID=Europe/Oslo:20210310T193000
DTEND;TZID=Europe/Oslo:20210310T220000
DTSTAMP:20260423T165058
CREATED:20201210T020107Z
LAST-MODIFIED:20210313T142058Z
UID:10001932-1615404600-1615413600@www.bls.no
SUMMARY:Øving Symra Avlyst
DESCRIPTION:.
URL:https://www.bls.no/hending/oving-symra-20/
LOCATION:Storsalen\, Nordahl Bruns gt 22\, Oslo\, 0165\, Norway
CATEGORIES:Bls Dans,Bls Framheva,Folkedanslaget Symra,Symra
ATTACH;FMTTYPE=image/jpeg:https://www.bls.no/wp-content/uploads/2020/11/bunadbilde-symra-fra-mr-TwsgmB.tmp_.jpg
GEO:59.9185734;10.7382801
X-APPLE-STRUCTURED-LOCATION;VALUE=URI;X-ADDRESS=Storsalen Nordahl Bruns gt 22 Oslo 0165 Norway;X-APPLE-RADIUS=500;X-TITLE=Nordahl Bruns gt 22:geo:10.7382801,59.9185734
END:VEVENT
BEGIN:VEVENT
DTSTART;TZID=Europe/Oslo:20210303T193000
DTEND;TZID=Europe/Oslo:20210303T220000
DTSTAMP:20260423T165058
CREATED:20201203T225803Z
LAST-MODIFIED:20210313T142059Z
UID:10001928-1614799800-1614808800@www.bls.no
SUMMARY:Øving Symra. Avlyst.
DESCRIPTION:Sørgelig beskjed i dag 17.2. Det er forbud mot arrangement i Oslo tom 3.3. dvs to uker framover. \n 
URL:https://www.bls.no/hending/oving-symra-19/
LOCATION:Storsalen\, Nordahl Bruns gt 22\, Oslo\, 0165\, Norway
CATEGORIES:Bls Dans,Bls Framheva,Folkedanslaget Symra,Symra
ATTACH;FMTTYPE=image/jpeg:https://www.bls.no/wp-content/uploads/2020/11/bunadbilde-symra-fra-mr-TwsgmB.tmp_.jpg
GEO:59.9185734;10.7382801
X-APPLE-STRUCTURED-LOCATION;VALUE=URI;X-ADDRESS=Storsalen Nordahl Bruns gt 22 Oslo 0165 Norway;X-APPLE-RADIUS=500;X-TITLE=Nordahl Bruns gt 22:geo:10.7382801,59.9185734
END:VEVENT
BEGIN:VEVENT
DTSTART;TZID=Europe/Oslo:20210224T193000
DTEND;TZID=Europe/Oslo:20210224T220000
DTSTAMP:20260423T165058
CREATED:20201126T202729Z
LAST-MODIFIED:20210313T142100Z
UID:10001926-1614195000-1614204000@www.bls.no
SUMMARY:Øving Symra Avlyst
DESCRIPTION:Øvinga er avlyst! \n 
URL:https://www.bls.no/hending/oving-symra-18/
LOCATION:Storsalen\, Nordahl Bruns gt 22\, Oslo\, 0165\, Norway
CATEGORIES:Bls Dans,Bls Framheva,Folkedanslaget Symra,Symra
ATTACH;FMTTYPE=image/jpeg:https://www.bls.no/wp-content/uploads/2020/11/bunadbilde-symra-fra-mr-TwsgmB.tmp_.jpg
GEO:59.9185734;10.7382801
X-APPLE-STRUCTURED-LOCATION;VALUE=URI;X-ADDRESS=Storsalen Nordahl Bruns gt 22 Oslo 0165 Norway;X-APPLE-RADIUS=500;X-TITLE=Nordahl Bruns gt 22:geo:10.7382801,59.9185734
END:VEVENT
BEGIN:VEVENT
DTSTART;TZID=Europe/Oslo:20210217T193000
DTEND;TZID=Europe/Oslo:20210217T220000
DTSTAMP:20260423T165058
CREATED:20201119T190514Z
LAST-MODIFIED:20210313T142101Z
UID:10001922-1613590200-1613599200@www.bls.no
SUMMARY:Øving  Symra  ?
DESCRIPTION:Vi  vonar  at  vi  kan  halde  øvingar! \nMeir  info  kjem.
URL:https://www.bls.no/hending/oving-symra-17/
LOCATION:Storsalen\, Nordahl Bruns gt 22\, Oslo\, 0165\, Norway
CATEGORIES:Bls Dans,Bls Framheva,Folkedanslaget Symra,Symra
ATTACH;FMTTYPE=image/jpeg:https://www.bls.no/wp-content/uploads/2020/11/bunadbilde-symra-fra-mr-TwsgmB.tmp_.jpg
GEO:59.9185734;10.7382801
X-APPLE-STRUCTURED-LOCATION;VALUE=URI;X-ADDRESS=Storsalen Nordahl Bruns gt 22 Oslo 0165 Norway;X-APPLE-RADIUS=500;X-TITLE=Nordahl Bruns gt 22:geo:10.7382801,59.9185734
END:VEVENT
BEGIN:VEVENT
DTSTART;TZID=Europe/Oslo:20210217T193000
DTEND;TZID=Europe/Oslo:20210217T220000
DTSTAMP:20260423T165058
CREATED:20201109T180353Z
LAST-MODIFIED:20210313T142101Z
UID:10001986-1613590200-1613599200@www.bls.no
SUMMARY:E-postårsmøte  Symra.
DESCRIPTION:Årsmøtet  er  flyttet  til  ons  17.  februar  2021  kl  19.30.  Årsmelding  og  revisjonsrapport  er  sendt  medlemmene  på  mail.  De  som  ikke  har  mail\,   får  årsmeldinga  tilsendt.   Styret  går  inn  for  å  avvikle  møte  som  eit  e-postårsmøte.  Medlemene  har  fått  eit  oppsett  som  er  sendt  ut  som  e-post  11.2.  Medlemene  er  oppfordra  til  å  svare  innan  onsdag  17.2  kl  15.00.  Dei  kan  svare  om  dei  godkjenner  eller  ikkje  godkjenner  dei  ulike  punkta  på  saklista.  Dersom  mange  ikkje  godkjenner  noko\,  vert  denne  saka/  punktet  tatt  vekk  og  da  kjem  det  opp  på  eit  omframt  årsmøte.  Saka  val  av  medlemer  til  Rådet  kjem  opp  på  omframt  årsmøte.  Då  vil  ein  og  ha  ei  meiningsutveksling  om  røynslene  med  eit  e-postårsmøte. \nI  Lov  for  SYMRA  står  det  under  punkt  6.  Årsmøte. \nLaget  skal  ha  årsmøte  i   siste  helvta  av  januar  eller  første  helvta  av  februar.  Innkalling\,  sakliste\,  årsmelding  frå  styret\,  utval  og  nemnder  og  rekneskap  skal  sendast  ut  til  medlemmene  minst  2  veker  før  årsmøtet. \nAlle  saker  som  skal  avgjerast\,  skal  stå  på  saklista.  Saker  som  skal  med  på  saklista\,  må  vere  styret  i  hende  seinast  4  veker  før  årsmøtet.  Dersom  styret  ikkje  har  ført  opp  på  saklista  ei  sak  som  er  innmeldt  i  rett  tid\,  kan  saka  likevel  takast  opp  til  avgjerd  dersom  årsmøtet  ynskjer  det. \nÅrsmøtet  tek  stode  til  årsmelding\,  rekneskap\,  budsjett  inkludert  årskontingent  til  Symra\,  planar  for  året  og  andre  saker  på  saklista.  Årsmøtet  kan  dessutan  drøfta  andre  aktuelle  saker.  Omframt  årsmøte  skal  haldast  når  årsmøtet\,  styret  eller  minst  5  medlemmer  krev  det. \nÅrsmeldinga  er  sendt  til  medlemmene  på  mail.  Medlemmer  som  ikke  har  mail\,   får  årsmeldinga   tilsendt.  Det  blir  ikke  sendt  ut  blad  før  etter  årsmøtet.
URL:https://www.bls.no/hending/arsmote-symra/
LOCATION:Storsalen\, Nordahl Bruns gt 22\, Oslo\, 0165\, Norway
CATEGORIES:Bls Framheva,Folkedanslaget Symra,Symra
ATTACH;FMTTYPE=image/png:https://www.bls.no/wp-content/uploads/2020/11/symra-logo-r3cbAd.tmp_.png
GEO:59.9185734;10.7382801
X-APPLE-STRUCTURED-LOCATION;VALUE=URI;X-ADDRESS=Storsalen Nordahl Bruns gt 22 Oslo 0165 Norway;X-APPLE-RADIUS=500;X-TITLE=Nordahl Bruns gt 22:geo:10.7382801,59.9185734
END:VEVENT
BEGIN:VEVENT
DTSTART;TZID=Europe/Oslo:20210210T193000
DTEND;TZID=Europe/Oslo:20210210T220000
DTSTAMP:20260423T165058
CREATED:20201113T184418Z
LAST-MODIFIED:20210313T142102Z
UID:10001942-1612985400-1612994400@www.bls.no
SUMMARY:Øving  Symra  AVLYST
DESCRIPTION:Dessverre  avlyst.
URL:https://www.bls.no/hending/oving-symra-16/
LOCATION:Storsalen\, Nordahl Bruns gt 22\, Oslo\, 0165\, Norway
CATEGORIES:Bls Dans,Bls Framheva,Folkedanslaget Symra,Symra
ATTACH;FMTTYPE=image/jpeg:https://www.bls.no/wp-content/uploads/2020/11/bunadbilde-symra-fra-mr-TwsgmB.tmp_.jpg
GEO:59.9185734;10.7382801
X-APPLE-STRUCTURED-LOCATION;VALUE=URI;X-ADDRESS=Storsalen Nordahl Bruns gt 22 Oslo 0165 Norway;X-APPLE-RADIUS=500;X-TITLE=Nordahl Bruns gt 22:geo:10.7382801,59.9185734
END:VEVENT
BEGIN:VEVENT
DTSTART;TZID=Europe/Oslo:20210203T180000
DTEND;TZID=Europe/Oslo:20210203T193000
DTSTAMP:20260423T165058
CREATED:20201109T180351Z
LAST-MODIFIED:20210313T142103Z
UID:10001953-1612375200-1612380600@www.bls.no
SUMMARY:Grunnkurs  gammeldans?
DESCRIPTION:Korona? \nVi  håper  at  vi  kan  arrangere  kurs? \nMer  info  senere.
URL:https://www.bls.no/hending/grunnkurs-gammeldans-6/
LOCATION:Storsalen\, Nordahl Bruns gt 22\, Oslo\, 0165\, Norway
CATEGORIES:Bls Kurs,Symra,Symra Kurs
ATTACH;FMTTYPE=image/jpeg:https://www.bls.no/wp-content/uploads/2020/11/rundsnu2-e1442092745644-G8uhsE.tmp_.jpg
GEO:59.9185734;10.7382801
X-APPLE-STRUCTURED-LOCATION;VALUE=URI;X-ADDRESS=Storsalen Nordahl Bruns gt 22 Oslo 0165 Norway;X-APPLE-RADIUS=500;X-TITLE=Nordahl Bruns gt 22:geo:10.7382801,59.9185734
END:VEVENT
BEGIN:VEVENT
DTSTART;TZID=Europe/Oslo:20210127T180000
DTEND;TZID=Europe/Oslo:20210127T193000
DTSTAMP:20260423T165058
CREATED:20201109T180350Z
LAST-MODIFIED:20210313T142103Z
UID:10001949-1611770400-1611775800@www.bls.no
SUMMARY:Grunnkurs  gammeldans?
DESCRIPTION:Korona? \nVi  håper  at  vi  kan  arrangere  kurs? \nMer  info  senere.
URL:https://www.bls.no/hending/grunnkurs-gammeldans-5/
LOCATION:Storsalen\, Nordahl Bruns gt 22\, Oslo\, 0165\, Norway
CATEGORIES:Bls Kurs,Symra,Symra Kurs
ATTACH;FMTTYPE=image/jpeg:https://www.bls.no/wp-content/uploads/2020/11/rundsnu2-e1442092745644-G8uhsE.tmp_.jpg
GEO:59.9185734;10.7382801
X-APPLE-STRUCTURED-LOCATION;VALUE=URI;X-ADDRESS=Storsalen Nordahl Bruns gt 22 Oslo 0165 Norway;X-APPLE-RADIUS=500;X-TITLE=Nordahl Bruns gt 22:geo:10.7382801,59.9185734
END:VEVENT
BEGIN:VEVENT
DTSTART;TZID=Europe/Oslo:20210127T110000
DTEND;TZID=Europe/Oslo:20210127T143000
DTSTAMP:20260423T165058
CREATED:20201109T180350Z
LAST-MODIFIED:20210313T142104Z
UID:10001950-1611745200-1611757800@www.bls.no
SUMMARY:Symra.  Gåtur  rundt  Østensjøvannet  avlyst.
DESCRIPTION:Øvinga  er  avlyst!   Gåturen  er  også  avlyst. \n 
URL:https://www.bls.no/hending/oving-symra-15/
LOCATION:Storsalen\, Nordahl Bruns gt 22\, Oslo\, 0165\, Norway
CATEGORIES:Bls Dans,Bls Framheva,Folkedanslaget Symra,Symra
ATTACH;FMTTYPE=image/jpeg:https://www.bls.no/wp-content/uploads/2021/01/vinter-GJo5XS.tmp_.jpg
GEO:59.9185734;10.7382801
X-APPLE-STRUCTURED-LOCATION;VALUE=URI;X-ADDRESS=Storsalen Nordahl Bruns gt 22 Oslo 0165 Norway;X-APPLE-RADIUS=500;X-TITLE=Nordahl Bruns gt 22:geo:10.7382801,59.9185734
END:VEVENT
BEGIN:VEVENT
DTSTART;TZID=Europe/Oslo:20210120T193000
DTEND;TZID=Europe/Oslo:20210120T220000
DTSTAMP:20260423T165058
CREATED:20201109T180349Z
LAST-MODIFIED:20210313T142104Z
UID:10001947-1611171000-1611180000@www.bls.no
SUMMARY:Øving  Symra.  Avlyst
DESCRIPTION:Det  er  usikkert  om  det  kan  bli  øving! \nMeir  info  kjem.
URL:https://www.bls.no/hending/oving-symra-14/
LOCATION:Storsalen\, Nordahl Bruns gt 22\, Oslo\, 0165\, Norway
CATEGORIES:Bls Dans,Bls Framheva,Folkedanslaget Symra,Symra
ATTACH;FMTTYPE=image/jpeg:https://www.bls.no/wp-content/uploads/2020/11/bunadbilde-symra-fra-mr-TwsgmB.tmp_.jpg
GEO:59.9185734;10.7382801
X-APPLE-STRUCTURED-LOCATION;VALUE=URI;X-ADDRESS=Storsalen Nordahl Bruns gt 22 Oslo 0165 Norway;X-APPLE-RADIUS=500;X-TITLE=Nordahl Bruns gt 22:geo:10.7382801,59.9185734
END:VEVENT
BEGIN:VEVENT
DTSTART;TZID=Europe/Oslo:20210120T180000
DTEND;TZID=Europe/Oslo:20210120T193000
DTSTAMP:20260423T165058
CREATED:20201109T180348Z
LAST-MODIFIED:20210313T142105Z
UID:10001946-1611165600-1611171000@www.bls.no
SUMMARY:Grunnkurs  gammeldans?
DESCRIPTION:Korona? \nVi  håper  at  vi  kan  arrangere  kurs? \nMer  info  senere.
URL:https://www.bls.no/hending/grunnkurs-gammeldans-4/
LOCATION:Storsalen\, Nordahl Bruns gt 22\, Oslo\, 0165\, Norway
CATEGORIES:Bls Kurs,Symra,Symra Kurs
ATTACH;FMTTYPE=image/jpeg:https://www.bls.no/wp-content/uploads/2020/11/rundsnu2-e1442092745644-G8uhsE.tmp_.jpg
GEO:59.9185734;10.7382801
X-APPLE-STRUCTURED-LOCATION;VALUE=URI;X-ADDRESS=Storsalen Nordahl Bruns gt 22 Oslo 0165 Norway;X-APPLE-RADIUS=500;X-TITLE=Nordahl Bruns gt 22:geo:10.7382801,59.9185734
END:VEVENT
BEGIN:VEVENT
DTSTART;TZID=Europe/Oslo:20210113T180000
DTEND;TZID=Europe/Oslo:20210113T193000
DTSTAMP:20260423T165058
CREATED:20201109T180346Z
LAST-MODIFIED:20210313T142151Z
UID:10001945-1610560800-1610566200@www.bls.no
SUMMARY:Grunnkurs  gammeldans?
DESCRIPTION:Korona? \nVi  håper  at  vi  kan  arrangere  kurs? \nMer  info  senere.
URL:https://www.bls.no/hending/grunnkurs-gammeldans-3/
LOCATION:Storsalen\, Nordahl Bruns gt 22\, Oslo\, 0165\, Norway
CATEGORIES:Bls Kurs,Symra,Symra Kurs
ATTACH;FMTTYPE=image/jpeg:https://www.bls.no/wp-content/uploads/2020/11/rundsnu2-e1442092745644-G8uhsE.tmp_.jpg
GEO:59.9185734;10.7382801
X-APPLE-STRUCTURED-LOCATION;VALUE=URI;X-ADDRESS=Storsalen Nordahl Bruns gt 22 Oslo 0165 Norway;X-APPLE-RADIUS=500;X-TITLE=Nordahl Bruns gt 22:geo:10.7382801,59.9185734
END:VEVENT
BEGIN:VEVENT
DTSTART;TZID=Europe/Oslo:20201028T190000
DTEND;TZID=Europe/Oslo:20201028T190000
DTSTAMP:20260423T165058
CREATED:20201010T205029Z
LAST-MODIFIED:20210313T142153Z
UID:10001817-1603911600-1603911600@www.bls.no
SUMMARY:Per  Bolstad-  kveld
DESCRIPTION:Per  Bolstad-kveld \nONSDAG  28.  OKTOBER  2020  KL  19.00  –  ca  21.30 \nI  Storsalen\,  Nordahl  Brunsgt.  22\,  Oslo \n  \nHåvard  Svendsrud  spiller  og  forteller  om  Per  Bolstad \n  \n  \nEtter  pausen  vil  det  bli  vist/  fortalt  litt  om  det  som  festkomiteen  hadde  som  program  på  Symra  sin  60-årsfeiring  på  Sanner  hotell  16.-   18.  okt.  Medlemmer  som  ikke  fikk  10-årsheftet  på  Sanner\,  vil  få  dette  denne  kvelden. \n  \nTil  slutt  vil  Håvard  Svendsrud  spille  noe  av  Grieg  og  Paganini  på  trekkspill. \n\nDet  blir  ikke  dans!\n\n  \nKoronatiltak: \nPåmelding:  mail  erik.haugros@gmail.com  el  SMS  915  23  192  innen  25.10.20. \nEt  begrenset  antall  kan  delta  iflg  gjeldende  koronaforskrift.  Husk  1  m-regelen.  Par  kan  sitte  ved  siden  av  hverandre. \nVi  må  ha  navneliste  med  tlf.  for  ikke-medlemmer. \nBetaling  kr.  100  (gjerne  på  forhånd)  til  Symras  konto  0536  42  59354  eller  VIPPS  –  15164.  De  som  ønsker  å  betale  kontant\,  legger  penger  i  iskremboksen  og  skriver  navn  på  utlagte  liste. \nTa  med  egen  mat  og  drikke  til  pausen  (ca  20.00  –  20.30).  I  pausen  kan  vi  også  sitte  i  Storsalen.  Det  vil  være  mulig  å  gå  rett  inn  fra  Nordahl  Brunsgt.  ved  siden  av  gjennom  gården  og  kafeen. \n  \nArr.  Symra
URL:https://www.bls.no/hending/per-bolstad-kveld/
LOCATION:Storsalen\, Nordahl Bruns gt 22\, Oslo\, 0165\, Norway
CATEGORIES:Bls Framheva,Folkedanslaget Symra,Symra
ATTACH;FMTTYPE=image/jpeg:https://www.bls.no/wp-content/uploads/2020/10/bls-nordahl-brunsgt-22-tG6yne.tmp_.jpg
GEO:59.9185734;10.7382801
X-APPLE-STRUCTURED-LOCATION;VALUE=URI;X-ADDRESS=Storsalen Nordahl Bruns gt 22 Oslo 0165 Norway;X-APPLE-RADIUS=500;X-TITLE=Nordahl Bruns gt 22:geo:10.7382801,59.9185734
END:VEVENT
BEGIN:VEVENT
DTSTART;TZID=Europe/Oslo:20200610T190000
DTEND;TZID=Europe/Oslo:20200610T220000
DTSTAMP:20260423T165058
CREATED:20200213T150836Z
LAST-MODIFIED:20210313T142157Z
UID:10001835-1591815600-1591826400@www.bls.no
SUMMARY:Bursdagskveld  Symra
DESCRIPTION:s.   9   i   25-årsboka: \nTorsdagskvelden  9.  juni  1960  møttest  to  jenter  og  tre  gutar  på  hybelen  til  Per  Malmedal…  Dei  var  samla  for  å  skipe  ein  ny  leikarring\,  ein  leikarring  frå  Møre  og  Romsdal\,  ….  Dei  som  stod  i  brodden  for  skipinga  var  …  Lars  Hauge  og  Per  Malmedal.   Dei  andre  som  møtte  var  Per  Inge  Venås\,  Johanne  Vågseter  og  Turid  Rogne. \nPer  skreiv  eit  fyldig  referat  frå  skipingsmøtet  (sjå  boka). \nKva  er  meir  naturleg  enn  at  vi  denne  kvelden  lagar  eit  bursdagselskap?  Meir  kjem!
URL:https://www.bls.no/hending/bursdagskveld-symra/
LOCATION:Storsalen\, Nordahl Bruns gt 22\, Oslo\, 0165\, Norway
CATEGORIES:Bls Dans,Bls Framheva,Symra
ATTACH;FMTTYPE=image/jpeg:https://www.bls.no/wp-content/uploads/2020/02/nordlek-2018-aremalsdag.jpg
GEO:59.9185734;10.7382801
X-APPLE-STRUCTURED-LOCATION;VALUE=URI;X-ADDRESS=Storsalen Nordahl Bruns gt 22 Oslo 0165 Norway;X-APPLE-RADIUS=500;X-TITLE=Nordahl Bruns gt 22:geo:10.7382801,59.9185734
END:VEVENT
BEGIN:VEVENT
DTSTART;TZID=Europe/Oslo:20200603T193000
DTEND;TZID=Europe/Oslo:20200603T220000
DTSTAMP:20260423T165058
CREATED:20200213T150827Z
LAST-MODIFIED:20210313T142158Z
UID:10001836-1591212600-1591221600@www.bls.no
SUMMARY:Øving  Symra
DESCRIPTION:Vel  heime  etter  ein  spennande  pinsetur! \nDette  er  den  siste  vanlege  øvinga\,  neste  onsdag  er  det  kaffekveld.
URL:https://www.bls.no/hending/oving-symra/
LOCATION:Storsalen\, Nordahl Bruns gt 22\, Oslo\, 0165\, Norway
CATEGORIES:Bls Dans,Bls Framheva,Symra
ATTACH;FMTTYPE=image/jpeg:https://www.bls.no/wp-content/uploads/2020/02/bygdoy-aremalsdagen.jpg
GEO:59.9185734;10.7382801
X-APPLE-STRUCTURED-LOCATION;VALUE=URI;X-ADDRESS=Storsalen Nordahl Bruns gt 22 Oslo 0165 Norway;X-APPLE-RADIUS=500;X-TITLE=Nordahl Bruns gt 22:geo:10.7382801,59.9185734
END:VEVENT
BEGIN:VEVENT
DTSTART;TZID=Europe/Oslo:20200527T193000
DTEND;TZID=Europe/Oslo:20200527T220000
DTSTAMP:20260423T165058
CREATED:20200213T151031Z
LAST-MODIFIED:20210313T142158Z
UID:10001816-1590607800-1590616800@www.bls.no
SUMMARY:Øving  Symra Avlyst!
DESCRIPTION:
URL:https://www.bls.no/hending/oving-symra-4/
LOCATION:Storsalen\, Nordahl Bruns gt 22\, Oslo\, 0165\, Norway
CATEGORIES:Bls Dans,Bls Framheva,Symra
ATTACH;FMTTYPE=image/jpeg:https://www.bls.no/wp-content/uploads/2020/02/bls-nordahl-brunsgt-22.jpg
GEO:59.9185734;10.7382801
X-APPLE-STRUCTURED-LOCATION;VALUE=URI;X-ADDRESS=Storsalen Nordahl Bruns gt 22 Oslo 0165 Norway;X-APPLE-RADIUS=500;X-TITLE=Nordahl Bruns gt 22:geo:10.7382801,59.9185734
END:VEVENT
BEGIN:VEVENT
DTSTART;TZID=Europe/Oslo:20200520T193000
DTEND;TZID=Europe/Oslo:20200520T220000
DTSTAMP:20260423T165058
CREATED:20200213T151017Z
LAST-MODIFIED:20200507T122134Z
UID:10001814-1590003000-1590012000@www.bls.no
SUMMARY:Øving  Symra Avlyst!
DESCRIPTION:
URL:https://www.bls.no/hending/oving-symra-3/
LOCATION:Storsalen\, Nordahl Bruns gt 22\, Oslo\, 0165\, Norway
CATEGORIES:Bls Dans,Bls Framheva,Symra
ATTACH;FMTTYPE=image/jpeg:https://www.bls.no/wp-content/uploads/2020/02/dansekurs-student-host18.jpg
GEO:59.9185734;10.7382801
X-APPLE-STRUCTURED-LOCATION;VALUE=URI;X-ADDRESS=Storsalen Nordahl Bruns gt 22 Oslo 0165 Norway;X-APPLE-RADIUS=500;X-TITLE=Nordahl Bruns gt 22:geo:10.7382801,59.9185734
END:VEVENT
BEGIN:VEVENT
DTSTART;TZID=Europe/Oslo:20200513T193000
DTEND;TZID=Europe/Oslo:20200513T220000
DTSTAMP:20260423T165058
CREATED:20200213T151005Z
LAST-MODIFIED:20200507T122018Z
UID:10001833-1589398200-1589407200@www.bls.no
SUMMARY:Øving  Symra Avlyst!
DESCRIPTION:
URL:https://www.bls.no/hending/oving-symra-2/
LOCATION:Storsalen\, Nordahl Bruns gt 22\, Oslo\, 0165\, Norway
CATEGORIES:Bls Dans,Bls Framheva,Symra
ATTACH;FMTTYPE=image/jpeg:https://www.bls.no/wp-content/uploads/2020/02/symra-logo-scaled.jpg
GEO:59.9185734;10.7382801
X-APPLE-STRUCTURED-LOCATION;VALUE=URI;X-ADDRESS=Storsalen Nordahl Bruns gt 22 Oslo 0165 Norway;X-APPLE-RADIUS=500;X-TITLE=Nordahl Bruns gt 22:geo:10.7382801,59.9185734
END:VEVENT
BEGIN:VEVENT
DTSTART;TZID=Europe/Oslo:20200506T193000
DTEND;TZID=Europe/Oslo:20200506T220000
DTSTAMP:20260423T165058
CREATED:20200213T151328Z
LAST-MODIFIED:20200507T121902Z
UID:10001828-1588793400-1588802400@www.bls.no
SUMMARY:Øving  Symra Avlyst!
DESCRIPTION:
URL:https://www.bls.no/hending/oving-symra-8/
LOCATION:Storsalen\, Nordahl Bruns gt 22\, Oslo\, 0165\, Norway
CATEGORIES:Bls Dans,Bls Framheva,Symra
ATTACH;FMTTYPE=image/jpeg:https://www.bls.no/wp-content/uploads/2020/02/logosseashore.jpg
GEO:59.9185734;10.7382801
X-APPLE-STRUCTURED-LOCATION;VALUE=URI;X-ADDRESS=Storsalen Nordahl Bruns gt 22 Oslo 0165 Norway;X-APPLE-RADIUS=500;X-TITLE=Nordahl Bruns gt 22:geo:10.7382801,59.9185734
END:VEVENT
BEGIN:VEVENT
DTSTART;TZID=Europe/Oslo:20200429T193000
DTEND;TZID=Europe/Oslo:20200429T220000
DTSTAMP:20260423T165058
CREATED:20200213T151320Z
LAST-MODIFIED:20200213T151320Z
UID:10001826-1588188600-1588197600@www.bls.no
SUMMARY:Øving  Symra
DESCRIPTION:
URL:https://www.bls.no/hending/oving-symra-7/
LOCATION:Storsalen\, Nordahl Bruns gt 22\, Oslo\, 0165\, Norway
CATEGORIES:Bls Dans,Bls Framheva,Symra
ATTACH;FMTTYPE=image/jpeg:https://www.bls.no/wp-content/uploads/2019/12/dansefoter-foto-noregs-ungdomslag.jpg
GEO:59.9185734;10.7382801
X-APPLE-STRUCTURED-LOCATION;VALUE=URI;X-ADDRESS=Storsalen Nordahl Bruns gt 22 Oslo 0165 Norway;X-APPLE-RADIUS=500;X-TITLE=Nordahl Bruns gt 22:geo:10.7382801,59.9185734
END:VEVENT
END:VCALENDAR