BEGIN:VCALENDAR
VERSION:2.0
PRODID:-//Bygdelagssamskipnaden - ECPv6.15.20//NONSGML v1.0//EN
CALSCALE:GREGORIAN
METHOD:PUBLISH
X-WR-CALNAME:Bygdelagssamskipnaden
X-ORIGINAL-URL:https://www.bls.no
X-WR-CALDESC:Hendingar for Bygdelagssamskipnaden
REFRESH-INTERVAL;VALUE=DURATION:PT1H
X-Robots-Tag:noindex
X-PUBLISHED-TTL:PT1H
BEGIN:VTIMEZONE
TZID:Europe/Oslo
BEGIN:DAYLIGHT
TZOFFSETFROM:+0100
TZOFFSETTO:+0200
TZNAME:CEST
DTSTART:20200329T010000
END:DAYLIGHT
BEGIN:STANDARD
TZOFFSETFROM:+0200
TZOFFSETTO:+0100
TZNAME:CET
DTSTART:20201025T010000
END:STANDARD
BEGIN:DAYLIGHT
TZOFFSETFROM:+0100
TZOFFSETTO:+0200
TZNAME:CEST
DTSTART:20210328T010000
END:DAYLIGHT
BEGIN:STANDARD
TZOFFSETFROM:+0200
TZOFFSETTO:+0100
TZNAME:CET
DTSTART:20211031T010000
END:STANDARD
BEGIN:DAYLIGHT
TZOFFSETFROM:+0100
TZOFFSETTO:+0200
TZNAME:CEST
DTSTART:20220327T010000
END:DAYLIGHT
BEGIN:STANDARD
TZOFFSETFROM:+0200
TZOFFSETTO:+0100
TZNAME:CET
DTSTART:20221030T010000
END:STANDARD
BEGIN:DAYLIGHT
TZOFFSETFROM:+0100
TZOFFSETTO:+0200
TZNAME:CEST
DTSTART:20230326T010000
END:DAYLIGHT
BEGIN:STANDARD
TZOFFSETFROM:+0200
TZOFFSETTO:+0100
TZNAME:CET
DTSTART:20231029T010000
END:STANDARD
END:VTIMEZONE
BEGIN:VEVENT
DTSTART;TZID=Europe/Oslo:20220327T193000
DTEND;TZID=Europe/Oslo:20220327T223000
DTSTAMP:20260421T120510
CREATED:20220322T221652Z
LAST-MODIFIED:20230809T130727Z
UID:10002350-1648409400-1648420200@www.bls.no
SUMMARY:Folkedanskveld med Østerdølenes Spellmannslag
DESCRIPTION:Vi ønsker alle velkommen til en ny folkedanskveld.\nPris: 150\,-\, Medlem BLS 120\,-\, Student 60\,-\nFør folkedanskvelden er det minikurs i Bingsjøpolska kl 18-19:30. Pris: 150 (student: 80) Adgang til folkedanskvelden med gratis servering er inkludert i kursprisen.\n\nØsterdølenes Spellmannslag ble stiftet i 1977. De holder til i Oslo\, men de fleste av medlemmene skal angivelig være fra Østerdalen. Slåtter fra Østerdalen er selvfølgelig deres favoritter\, og da trenger man ikke en gang å spørre om de har tenkt til å spille en Rørospols eller førti! De trives i kappleiksteten\, og setter spilleglede på dagsorden. BLS byr på gratis servering i pausen. \n\nVelkommen!
URL:https://www.bls.no/hending/folkedanskveld-med-osterdolenes-spellmannslag-2/
LOCATION:BLS  –  Nordahl  Bruns  gate  22\, Nordahl Bruns gate 22\, Oslo\, Norge\, 0165\, Norway
CATEGORIES:Bls Dans,Bls Framheva,Dans - ungdom-vaksne,Folkedanskveld,Søndagsdans
ATTACH;FMTTYPE=image/jpeg:https://www.bls.no/wp-content/uploads/2021/11/Osterdolene.jpg
ORGANIZER;CN="%C3%98sterd%C3%B8lenes Spellmannslag":MAILTO:osterdolenes.spellmannslag@gmail.com
GEO:59.9185734;10.7382801
X-APPLE-STRUCTURED-LOCATION;VALUE=URI;X-ADDRESS=BLS  –  Nordahl  Bruns  gate  22 Nordahl Bruns gate 22 Oslo Norge 0165 Norway;X-APPLE-RADIUS=500;X-TITLE=Nordahl Bruns gate 22:geo:10.7382801,59.9185734
END:VEVENT
BEGIN:VEVENT
DTSTART;TZID=Europe/Oslo:20211031T100000
DTEND;TZID=Europe/Oslo:20211031T160000
DTSTAMP:20260421T120510
CREATED:20211015T132623Z
LAST-MODIFIED:20230809T131905Z
UID:10002234-1635674400-1635696000@www.bls.no
SUMMARY:Musikk fra Kvikne med Caspar Schärer
DESCRIPTION:Søndag den 31. oktober arrangerer Østerdølenes Spellmannslag kurs med Caspar Schärer. Kurset kan passe både for de som spiller instrumenter og vil lære låtene selv\, men også for de som ønsker å lære og lytte til kunnskapen og låtene. \nCaspar Schärer har gjort et viktig pionèrarbeid med samle inn noter og opptak fra den ellers så ukjente tradisjonsmusikken fra Kvikne. På kurset vil han dele sin kunnskap om musikken\, musikerne og tradisjonen\, og selvfølgelig også lære bort noen av låtene. \nKurset varer fra 10-16 og vil finne sted i Halli i BLS. Det blir servert lunsj og andre forfriskninger i pausene. Dette er inkludert i prisen. \nPrisene for å delta er som følger;\nVoksen: kr 490\,-\nStudent/ungdom under 25 år: 290\,- \nPåmelding til Karoline Mikkelsen Knutsen på:\nMail: osterdolenes.spellmannslag@gmail.com eller\nTlf: 938 24 914\nPåmeldingen er gyldig ved betaling. \nMer på Østerdølenes Spellmanslags hjemmeside.
URL:https://www.bls.no/hending/musikk-fra-kvikne-med-caspar-scharer/
LOCATION:BLS  –  Nordahl  Bruns  gate  22\, Nordahl Bruns gate 22\, Oslo\, Norge\, 0165\, Norway
CATEGORIES:Bls Framheva,Bls Kurs,BLS Musikk
ATTACH;FMTTYPE=image/jpeg:https://www.bls.no/wp-content/uploads/2021/10/Caspar-kurs.jpg
ORGANIZER;CN="%C3%98sterd%C3%B8lenes Spellmannslag":MAILTO:osterdolenes.spellmannslag@gmail.com
GEO:59.9185734;10.7382801
X-APPLE-STRUCTURED-LOCATION;VALUE=URI;X-ADDRESS=BLS  –  Nordahl  Bruns  gate  22 Nordahl Bruns gate 22 Oslo Norge 0165 Norway;X-APPLE-RADIUS=500;X-TITLE=Nordahl Bruns gate 22:geo:10.7382801,59.9185734
END:VEVENT
END:VCALENDAR